BEGIN:VCALENDAR
VERSION:2.0
PRODID:-//SVP Luzern //NONSGML Events //EN
CALSCALE:GREGORIAN
X-WR-CALNAME:SVP Luzern
BEGIN:VEVENT
CREATED:20211029T123237Z
UID:22684
DTEND:20220617T000000
DTSTART:20220617T000000
DTSTAMP:20231024T060007Z
LOCATION:
DESCRIPTION:
SUMMARY:Erscheinungsdatum SVP NEWS (Juni)
ORGANIZER:
URL;VALUE=URI:https://www.svp-lu.ch/termine/erscheinungsdatum-svp-news-juni-2/
TRANSP:OPAQUE
END:VEVENT
END:VCALENDAR
