BEGIN:VCALENDAR
VERSION:2.0
PRODID:-//SVP Luzern //NONSGML Events //EN
CALSCALE:GREGORIAN
X-WR-CALNAME:SVP Luzern
BEGIN:VEVENT
CREATED:20211029T123238Z
UID:22685
DTEND:20220621T000000
DTSTART:20220620T000000
DTSTAMP:20231024T060258Z
LOCATION:
DESCRIPTION:
SUMMARY:Session Kantonsrat
ORGANIZER:
URL;VALUE=URI:https://www.svp-lu.ch/termine/session-kantonsrat-32/
TRANSP:OPAQUE
END:VEVENT
END:VCALENDAR
