BEGIN:VCALENDAR
VERSION:2.0
PRODID:-//SVP Luzern //NONSGML Events //EN
CALSCALE:GREGORIAN
X-WR-CALNAME:SVP Luzern
BEGIN:VEVENT
CREATED:20211029T123238Z
UID:22686
DTEND:20220621T220000
DTSTART:20220621T190000
DTSTAMP:20231024T060101Z
LOCATION:Emmen
DESCRIPTION:
SUMMARY:Präsidentenfeier Kantonsrat Luzern
ORGANIZER:
URL;VALUE=URI:https://www.svp-lu.ch/termine/praesidentenfeier-kantonsrat-luzern-4/
TRANSP:OPAQUE
END:VEVENT
END:VCALENDAR
