BEGIN:VCALENDAR
VERSION:2.0
PRODID:-//SVP Luzern //NONSGML Events //EN
CALSCALE:GREGORIAN
X-WR-CALNAME:SVP Luzern
BEGIN:VEVENT
CREATED:20211029T123238Z
UID:22687
DTEND:20220623T220000
DTSTART:20220623T200000
DTSTAMP:20231024T055025Z
LOCATION:Gasthof St. Mauritz in Schötz
DESCRIPTION:https://www.stmauritz.ch/
SUMMARY:Kant. Generalversammlung
ORGANIZER:WK Willisau
URL;VALUE=URI:https://www.svp-lu.ch/termine/kant-generalversammlung-4/
TRANSP:OPAQUE
END:VEVENT
END:VCALENDAR
