BEGIN:VCALENDAR
VERSION:2.0
PRODID:-//SVP Luzern //NONSGML Events //EN
CALSCALE:GREGORIAN
X-WR-CALNAME:SVP Luzern
BEGIN:VEVENT
CREATED:20211029T123238Z
UID:22691
DTEND:20220811T190000
DTSTART:20220811T170000
DTSTAMP:20231024T055101Z
LOCATION:Vogelsang\, Eich
DESCRIPTION:
SUMMARY:GL-Sitzung 2022/06
ORGANIZER:
URL;VALUE=URI:https://www.svp-lu.ch/termine/gl-sitzung-2022-06/
TRANSP:OPAQUE
END:VEVENT
END:VCALENDAR
