BEGIN:VCALENDAR
VERSION:2.0
PRODID:-//SVP Luzern //NONSGML Events //EN
CALSCALE:GREGORIAN
X-WR-CALNAME:SVP Luzern
BEGIN:VEVENT
CREATED:20211029T123238Z
UID:22693
DTEND:20220821T000000
DTSTART:20220709T000000
DTSTAMP:20231024T060412Z
LOCATION:
DESCRIPTION:
SUMMARY:Schulferien Kanton Luzern
ORGANIZER:
URL;VALUE=URI:https://www.svp-lu.ch/termine/schulferien-kanton-luzern-22/
TRANSP:OPAQUE
END:VEVENT
END:VCALENDAR
