BEGIN:VCALENDAR
VERSION:2.0
PRODID:-//SVP Luzern //NONSGML Events //EN
CALSCALE:GREGORIAN
X-WR-CALNAME:SVP Luzern
BEGIN:VEVENT
CREATED:20211029T123238Z
UID:22695
DTEND:20220801T000000
DTSTART:20220801T000000
DTSTAMP:20231024T055055Z
LOCATION:
DESCRIPTION:
SUMMARY:Nationalfeiertag
ORGANIZER:
URL;VALUE=URI:https://www.svp-lu.ch/termine/nationalfeiertag-4/
TRANSP:OPAQUE
END:VEVENT
END:VCALENDAR
