BEGIN:VCALENDAR
VERSION:2.0
PRODID:-//SVP Luzern //NONSGML Events //EN
CALSCALE:GREGORIAN
X-WR-CALNAME:SVP Luzern
BEGIN:VEVENT
CREATED:20211029T123238Z
UID:22696
DTEND:20220811T220000
DTSTART:20220811T193000
DTSTAMP:20231024T054851Z
LOCATION:Vogelsang\, Eich
DESCRIPTION:
SUMMARY:Sitzung Parteileitung 2022/03
ORGANIZER:
URL;VALUE=URI:https://www.svp-lu.ch/termine/sitzung-parteileitung-2022-03/
TRANSP:OPAQUE
END:VEVENT
END:VCALENDAR
