BEGIN:VCALENDAR
VERSION:2.0
PRODID:-//SVP Luzern //NONSGML Events //EN
CALSCALE:GREGORIAN
X-WR-CALNAME:SVP Luzern
BEGIN:VEVENT
CREATED:20211029T123238Z
UID:22697
DTEND:20220812T000000
DTSTART:20220812T000000
DTSTAMP:20231024T054954Z
LOCATION:
DESCRIPTION:
SUMMARY:Redaktionsschluss SVP NEWS (August)
ORGANIZER:
URL;VALUE=URI:https://www.svp-lu.ch/termine/redaktionsschluss-svp-news-august-2/
TRANSP:OPAQUE
END:VEVENT
END:VCALENDAR
