BEGIN:VCALENDAR
VERSION:2.0
PRODID:-//SVP Luzern //NONSGML Events //EN
CALSCALE:GREGORIAN
X-WR-CALNAME:SVP Luzern
BEGIN:VEVENT
CREATED:20211029T123239Z
UID:22698
DTEND:20220815T000000
DTSTART:20220815T000000
DTSTAMP:20231024T055932Z
LOCATION:
DESCRIPTION:
SUMMARY:Maria Himmelfahrt
ORGANIZER:
URL;VALUE=URI:https://www.svp-lu.ch/termine/maria-himmelfahrt-2/
TRANSP:OPAQUE
END:VEVENT
END:VCALENDAR
