BEGIN:VCALENDAR
VERSION:2.0
PRODID:-//SVP Luzern //NONSGML Events //EN
CALSCALE:GREGORIAN
X-WR-CALNAME:SVP Luzern
BEGIN:VEVENT
CREATED:20211029T123239Z
UID:22699
DTEND:20220821T000000
DTSTART:20220819T000000
DTSTAMP:20231024T055439Z
LOCATION:
DESCRIPTION:
SUMMARY:Auslandschweizer-Kongress
ORGANIZER:
URL;VALUE=URI:https://www.svp-lu.ch/termine/auslandschweizer-kongress-4/
TRANSP:OPAQUE
END:VEVENT
END:VCALENDAR
