BEGIN:VCALENDAR
VERSION:2.0
PRODID:-//SVP Luzern //NONSGML Events //EN
CALSCALE:GREGORIAN
X-WR-CALNAME:SVP Luzern
BEGIN:VEVENT
CREATED:20211029T123239Z
UID:22703
DTEND:20220819T190000
DTSTART:20220819T140000
DTSTAMP:20231024T060005Z
LOCATION:
DESCRIPTION:
SUMMARY:Parteileitung/Parteivorstand mit Sekretären
ORGANIZER:ZG
URL;VALUE=URI:https://www.svp-lu.ch/termine/parteileitung-parteivorstand-mit-sekretaeren-16/
TRANSP:OPAQUE
END:VEVENT
END:VCALENDAR
