BEGIN:VCALENDAR
VERSION:2.0
PRODID:-//SVP Luzern //NONSGML Events //EN
CALSCALE:GREGORIAN
X-WR-CALNAME:SVP Luzern
BEGIN:VEVENT
CREATED:20211029T123239Z
UID:22704
DTEND:20220820T153000
DTSTART:20220820T100000
DTSTAMP:20231024T055123Z
LOCATION:Baar
DESCRIPTION:
SUMMARY:Eidg.Delegiertenversammlung
ORGANIZER:ZG
URL;VALUE=URI:https://www.svp-lu.ch/termine/eidg-delegiertenversammlung-15/
TRANSP:OPAQUE
END:VEVENT
END:VCALENDAR
