BEGIN:VCALENDAR
VERSION:2.0
PRODID:-//SVP Luzern //NONSGML Events //EN
CALSCALE:GREGORIAN
X-WR-CALNAME:SVP Luzern
BEGIN:VEVENT
CREATED:20211029T123239Z
UID:22709
DTEND:20220902T220000
DTSTART:20220902T180000
DTSTAMP:20231024T055835Z
LOCATION:Festhalle Seepark Sempach
DESCRIPTION:Programm: 18.00 Uhr Eintreffen der Gäste und Beginn Apéro 18.45 Uhr 
SUMMARY:Sempachertag (Traditioneller Parteianlass)
ORGANIZER:
URL;VALUE=URI:https://www.svp-lu.ch/termine/sempachertag-2022/
TRANSP:OPAQUE
END:VEVENT
END:VCALENDAR
