BEGIN:VCALENDAR
VERSION:2.0
PRODID:-//SVP Luzern //NONSGML Events //EN
CALSCALE:GREGORIAN
X-WR-CALNAME:SVP Luzern
BEGIN:VEVENT
CREATED:20211029T123240Z
UID:22711
DTEND:20220909T120000
DTSTART:20220909T140000
DTSTAMP:20231024T055244Z
LOCATION:
DESCRIPTION:
SUMMARY:Konferenz kantonale Parteipräsidenten /  Sekretäre und Fraktionspräsidenten
ORGANIZER:
URL;VALUE=URI:https://www.svp-lu.ch/termine/konferenz-kantonale-parteipraesidenten-sekretaere-und-fraktionspraesidenten/
TRANSP:OPAQUE
END:VEVENT
END:VCALENDAR
