BEGIN:VCALENDAR
VERSION:2.0
PRODID:-//SVP Luzern //NONSGML Events //EN
CALSCALE:GREGORIAN
X-WR-CALNAME:SVP Luzern
BEGIN:VEVENT
CREATED:20211029T123240Z
UID:22713
DTEND:20220913T000000
DTSTART:20220912T000000
DTSTAMP:20231024T055637Z
LOCATION:
DESCRIPTION:
SUMMARY:Session Kantonsrat
ORGANIZER:
URL;VALUE=URI:https://www.svp-lu.ch/termine/session-kantonsrat-33/
TRANSP:OPAQUE
END:VEVENT
END:VCALENDAR
