BEGIN:VCALENDAR
VERSION:2.0
PRODID:-//SVP Luzern //NONSGML Events //EN
CALSCALE:GREGORIAN
X-WR-CALNAME:SVP Luzern
BEGIN:VEVENT
CREATED:20211029T123240Z
UID:22714
DTEND:20220930T000000
DTSTART:20220912T000000
DTSTAMP:20231024T060224Z
LOCATION:Bern
DESCRIPTION:
SUMMARY:Session National- und Ständerat
ORGANIZER:
URL;VALUE=URI:https://www.svp-lu.ch/termine/session-national-und-staenderat-16/
TRANSP:OPAQUE
END:VEVENT
END:VCALENDAR
