BEGIN:VCALENDAR
VERSION:2.0
PRODID:-//SVP Luzern //NONSGML Events //EN
CALSCALE:GREGORIAN
X-WR-CALNAME:SVP Luzern
BEGIN:VEVENT
CREATED:20211029T123240Z
UID:22715
DTEND:20220913T230000
DTSTART:20220913T130000
DTSTAMP:20231024T055536Z
LOCATION:WK Stadt Luzern
DESCRIPTION:
SUMMARY:Fraktionsausflug SVP Kanton Luzern
ORGANIZER:Stadt Luzern
URL;VALUE=URI:https://www.svp-lu.ch/termine/fraktionsausflug-svp-kanton-luzern/
TRANSP:OPAQUE
END:VEVENT
END:VCALENDAR
