BEGIN:VCALENDAR
VERSION:2.0
PRODID:-//SVP Luzern //NONSGML Events //EN
CALSCALE:GREGORIAN
X-WR-CALNAME:SVP Luzern
BEGIN:VEVENT
CREATED:20211029T123240Z
UID:22716
DTEND:20220916T000000
DTSTART:20220916T000000
DTSTAMP:20231024T060012Z
LOCATION:
DESCRIPTION:
SUMMARY:Erscheinungsdatum SVP NEWS (September)
ORGANIZER:
URL;VALUE=URI:https://www.svp-lu.ch/termine/erscheinungsdatum-svp-news-september/
TRANSP:OPAQUE
END:VEVENT
END:VCALENDAR
