BEGIN:VCALENDAR
VERSION:2.0
PRODID:-//SVP Luzern //NONSGML Events //EN
CALSCALE:GREGORIAN
X-WR-CALNAME:SVP Luzern
BEGIN:VEVENT
CREATED:20211029T123241Z
UID:22725
DTEND:20221007T000000
DTSTART:20221007T000000
DTSTAMP:20231024T060156Z
LOCATION:
DESCRIPTION:
SUMMARY:Redaktionsschluss SVP NEWS (Oktober)
ORGANIZER:
URL;VALUE=URI:https://www.svp-lu.ch/termine/redaktionsschluss-svp-news-oktober/
TRANSP:OPAQUE
END:VEVENT
END:VCALENDAR
