BEGIN:VCALENDAR
VERSION:2.0
PRODID:-//SVP Luzern //NONSGML Events //EN
CALSCALE:GREGORIAN
X-WR-CALNAME:SVP Luzern
BEGIN:VEVENT
CREATED:20211029T123241Z
UID:22730
DTEND:20221022T153000
DTSTART:20221022T100000
DTSTAMP:20231024T055250Z
LOCATION:Schulhaus Staffeln\, Obermättlistrasse 44\, 6015 Luzern
DESCRIPTION:Programm  10h30 Beginn mit der Schweizer Landeshymne 10h35 Grusswort
SUMMARY:Eidg. Delegiertenversammlung
ORGANIZER:Kanton Luzern
URL;VALUE=URI:https://www.svp-lu.ch/termine/eidg-delegiertenversammlung-16/
TRANSP:OPAQUE
END:VEVENT
END:VCALENDAR
