BEGIN:VCALENDAR
VERSION:2.0
PRODID:-//SVP Luzern //NONSGML Events //EN
CALSCALE:GREGORIAN
X-WR-CALNAME:SVP Luzern
BEGIN:VEVENT
CREATED:20211029T123241Z
UID:22731
DTEND:20221025T000000
DTSTART:20221024T000000
DTSTAMP:20231024T055329Z
LOCATION:
DESCRIPTION:
SUMMARY:Session Kantonsrat
ORGANIZER:
URL;VALUE=URI:https://www.svp-lu.ch/termine/session-kantonsrat-35/
TRANSP:OPAQUE
END:VEVENT
END:VCALENDAR
