BEGIN:VCALENDAR
VERSION:2.0
PRODID:-//SVP Luzern //NONSGML Events //EN
CALSCALE:GREGORIAN
X-WR-CALNAME:SVP Luzern
BEGIN:VEVENT
CREATED:20211029T123241Z
UID:22732
DTEND:20221027T210000
DTSTART:20221027T160000
DTSTAMP:20231024T055921Z
LOCATION:Aula SH Zentrum
DESCRIPTION:
SUMMARY:Einwohnerratssitzung Horw
ORGANIZER:
URL;VALUE=URI:https://www.svp-lu.ch/termine/einwohnerratssitzung-horw-25/
TRANSP:OPAQUE
END:VEVENT
END:VCALENDAR
