BEGIN:VCALENDAR
VERSION:2.0
PRODID:-//SVP Luzern //NONSGML Events //EN
CALSCALE:GREGORIAN
X-WR-CALNAME:SVP Luzern
BEGIN:VEVENT
CREATED:20211029T123242Z
UID:22734
DTEND:20221014T220000
DTSTART:20221014T193000
DTSTAMP:20231024T055800Z
LOCATION:Vogelsang
DESCRIPTION:Diese PL-Sitzung wird auf den 14. Oktober vorverschoben (Grund-Nominat
SUMMARY:Sitzung Parteileitung 2022/04
ORGANIZER:
URL;VALUE=URI:https://www.svp-lu.ch/termine/sitzung-parteileitung-2022-04/
TRANSP:OPAQUE
END:VEVENT
END:VCALENDAR
