BEGIN:VCALENDAR
VERSION:2.0
PRODID:-//SVP Luzern //NONSGML Events //EN
CALSCALE:GREGORIAN
X-WR-CALNAME:SVP Luzern
BEGIN:VEVENT
CREATED:20211029T123242Z
UID:22737
DTEND:20221101T000000
DTSTART:20221101T000000
DTSTAMP:20231024T055646Z
LOCATION:
DESCRIPTION:
SUMMARY:Allerheiligen
ORGANIZER:
URL;VALUE=URI:https://www.svp-lu.ch/termine/allerheiligen-4/
TRANSP:OPAQUE
END:VEVENT
END:VCALENDAR
