BEGIN:VCALENDAR
VERSION:2.0
PRODID:-//SVP Luzern //NONSGML Events //EN
CALSCALE:GREGORIAN
X-WR-CALNAME:SVP Luzern
BEGIN:VEVENT
CREATED:20211029T123242Z
UID:22739
DTEND:20221103T220000
DTSTART:20221103T193000
DTSTAMP:20231024T055050Z
LOCATION:Gasthaus Hirschen in Oberkirch
DESCRIPTION:
SUMMARY:Kant. Delegiertenversammlung inkl. Nomination RR-Kandidaten
ORGANIZER:WK Sursee
URL;VALUE=URI:https://www.svp-lu.ch/termine/kant-delegiertenversammlung-17/
TRANSP:OPAQUE
END:VEVENT
END:VCALENDAR
