BEGIN:VCALENDAR
VERSION:2.0
PRODID:-//SVP Luzern //NONSGML Events //EN
CALSCALE:GREGORIAN
X-WR-CALNAME:SVP Luzern
BEGIN:VEVENT
CREATED:20211029T123242Z
UID:22740
DTEND:20221108T220000
DTSTART:20221108T193000
DTSTAMP:20231024T060337Z
LOCATION:
DESCRIPTION:[gravityform id="26" title="true" description="true"]
SUMMARY:Ortsparteipräsidentenkonferenz inkl. Parteileitung
ORGANIZER:St. Mauritz in Schötz
URL;VALUE=URI:https://www.svp-lu.ch/termine/opp/
TRANSP:OPAQUE
END:VEVENT
END:VCALENDAR
