BEGIN:VCALENDAR
VERSION:2.0
PRODID:-//SVP Luzern //NONSGML Events //EN
CALSCALE:GREGORIAN
X-WR-CALNAME:SVP Luzern
BEGIN:VEVENT
CREATED:20211029T123243Z
UID:22744
DTEND:20221118T210000
DTSTART:20221118T163000
DTSTAMP:20231024T055944Z
LOCATION:
DESCRIPTION:
SUMMARY:GL-Sitzung 2022/09
ORGANIZER:
URL;VALUE=URI:https://www.svp-lu.ch/termine/gl-sitzung-2022-09/
TRANSP:OPAQUE
END:VEVENT
END:VCALENDAR
