BEGIN:VCALENDAR
VERSION:2.0
PRODID:-//SVP Luzern //NONSGML Events //EN
CALSCALE:GREGORIAN
X-WR-CALNAME:SVP Luzern
BEGIN:VEVENT
CREATED:20211029T123243Z
UID:22745
DTEND:20221123T220000
DTSTART:20221123T200000
DTSTAMP:20231024T060339Z
LOCATION:
DESCRIPTION:
SUMMARY:Kant. Fraktionssitzung
ORGANIZER:WK Stadt Luzern
URL;VALUE=URI:https://www.svp-lu.ch/termine/kant-fraktionssitzung-27/
TRANSP:OPAQUE
END:VEVENT
END:VCALENDAR
