BEGIN:VCALENDAR
VERSION:2.0
PRODID:-//SVP Luzern //NONSGML Events //EN
CALSCALE:GREGORIAN
X-WR-CALNAME:SVP Luzern
BEGIN:VEVENT
CREATED:20211029T123243Z
UID:22750
DTEND:20221129T100000
DTSTART:20221129T080000
DTSTAMP:20231024T060114Z
LOCATION:
DESCRIPTION:
SUMMARY:Gottesdienst Kantonsrat
ORGANIZER:
URL;VALUE=URI:https://www.svp-lu.ch/termine/gottesdienst-kantonsrat-4/
TRANSP:OPAQUE
END:VEVENT
END:VCALENDAR
