BEGIN:VCALENDAR
VERSION:2.0
PRODID:-//SVP Luzern //NONSGML Events //EN
CALSCALE:GREGORIAN
X-WR-CALNAME:SVP Luzern
BEGIN:VEVENT
CREATED:20211029T123243Z
UID:22752
DTEND:20221207T220000
DTSTART:20221207T180000
DTSTAMP:20231024T055814Z
LOCATION:Bern
DESCRIPTION:
SUMMARY:Fraktionsessen
ORGANIZER:
URL;VALUE=URI:https://www.svp-lu.ch/termine/fraktionsessen-5/
TRANSP:OPAQUE
END:VEVENT
END:VCALENDAR
