BEGIN:VCALENDAR
VERSION:2.0
PRODID:-//SVP Luzern //NONSGML Events //EN
CALSCALE:GREGORIAN
X-WR-CALNAME:SVP Luzern
BEGIN:VEVENT
CREATED:20211029T123243Z
UID:22753
DTEND:20221208T000000
DTSTART:20221208T000000
DTSTAMP:20231024T055816Z
LOCATION:
DESCRIPTION:
SUMMARY:Maria Empfängnis
ORGANIZER:
URL;VALUE=URI:https://www.svp-lu.ch/termine/maria-empfaengnis-4/
TRANSP:OPAQUE
END:VEVENT
END:VCALENDAR
