BEGIN:VCALENDAR
VERSION:2.0
PRODID:-//SVP Luzern //NONSGML Events //EN
CALSCALE:GREGORIAN
X-WR-CALNAME:SVP Luzern
BEGIN:VEVENT
CREATED:20211029T123243Z
UID:22754
DTEND:20221209T000000
DTSTART:20221209T000000
DTSTAMP:20231024T060230Z
LOCATION:
DESCRIPTION:
SUMMARY:Redaktionsschluss SVP NEWS (Dezember)
ORGANIZER:
URL;VALUE=URI:https://www.svp-lu.ch/termine/redaktionsschluss-svp-news-dezember/
TRANSP:OPAQUE
END:VEVENT
END:VCALENDAR
