BEGIN:VCALENDAR
VERSION:2.0
PRODID:-//SVP Luzern //NONSGML Events //EN
CALSCALE:GREGORIAN
X-WR-CALNAME:SVP Luzern
BEGIN:VEVENT
CREATED:20211029T123244Z
UID:22758
DTEND:20221216T210000
DTSTART:20221216T163000
DTSTAMP:20231024T055639Z
LOCATION:
DESCRIPTION:Diese GL-Sitzung wurde abgesagt
SUMMARY:Abgesagt  GL-Sitzung 2022/10
ORGANIZER:
URL;VALUE=URI:https://www.svp-lu.ch/termine/gl-sitzung-2022-10/
TRANSP:OPAQUE
END:VEVENT
END:VCALENDAR
