BEGIN:VCALENDAR
VERSION:2.0
PRODID:-//SVP Luzern //NONSGML Events //EN
CALSCALE:GREGORIAN
X-WR-CALNAME:SVP Luzern
BEGIN:VEVENT
CREATED:20211029T123244Z
UID:22762
DTEND:20221225T000000
DTSTART:20221225T000000
DTSTAMP:20231024T055641Z
LOCATION:
DESCRIPTION:
SUMMARY:Weihnachten
ORGANIZER:
URL;VALUE=URI:https://www.svp-lu.ch/termine/weihnachten-4/
TRANSP:OPAQUE
END:VEVENT
END:VCALENDAR
