BEGIN:VCALENDAR
VERSION:2.0
PRODID:-//SVP Luzern //NONSGML Events //EN
CALSCALE:GREGORIAN
X-WR-CALNAME:SVP Luzern
BEGIN:VEVENT
CREATED:20211127T102918Z
UID:22898
DTEND:20211202T213000
DTSTART:20211202T193000
DTSTAMP:20231024T055939Z
LOCATION:Rest. Vogelsang\, Eich. Mytensaal UG
DESCRIPTION:
SUMMARY:Sitzung Parteileitung
ORGANIZER:SVP Kanton Luzern
URL;VALUE=URI:https://www.svp-lu.ch/termine/pl-sitzung/
TRANSP:OPAQUE
END:VEVENT
END:VCALENDAR
