BEGIN:VCALENDAR
VERSION:2.0
PRODID:-//SVP Luzern //NONSGML Events //EN
CALSCALE:GREGORIAN
X-WR-CALNAME:SVP Luzern
BEGIN:VEVENT
CREATED:20220106T155242Z
UID:23017
DTEND:20220602T213000
DTSTART:20220602T193000
DTSTAMP:20231024T060416Z
LOCATION:CKW AG\, Rathausen 1\, 6032 Emmen
DESCRIPTION:Gerne laden wir sie zu einem Info-Anlass bei CKW in Emmen zu folgenden
SUMMARY:Klimaschutz und Versorgungssicherheit
ORGANIZER:SVP Kanton Luzern
URL;VALUE=URI:https://www.svp-lu.ch/termine/klimaschutz/
TRANSP:OPAQUE
END:VEVENT
END:VCALENDAR
