BEGIN:VCALENDAR
VERSION:2.0
PRODID:-//SVP Luzern //NONSGML Events //EN
CALSCALE:GREGORIAN
X-WR-CALNAME:SVP Luzern
BEGIN:VEVENT
CREATED:20220323T121009Z
UID:23313
DTEND:20220519T220000
DTSTART:20220519T191500
DTSTAMP:20231024T055924Z
LOCATION:
DESCRIPTION:Dieser Anlass wurde ersatzlos gestrichen.
SUMMARY:Abgesagt! Frauenanlass SVP Kanton Luzern
ORGANIZER:SVP Kanton Luzern
URL;VALUE=URI:https://www.svp-lu.ch/termine/frauenanlass-svp-kanton-lu/
TRANSP:OPAQUE
END:VEVENT
END:VCALENDAR
