BEGIN:VCALENDAR
VERSION:2.0
PRODID:-//SVP Luzern //NONSGML Events //EN
CALSCALE:GREGORIAN
X-WR-CALNAME:SVP Luzern
BEGIN:VEVENT
CREATED:20220424T175702Z
UID:23469
DTEND:20220627T000000
DTSTART:20220627T000000
DTSTAMP:20231024T055759Z
LOCATION:
DESCRIPTION:
SUMMARY:Gestrichen! Session Kantonsrat (Zusatztag)
ORGANIZER:
URL;VALUE=URI:https://www.svp-lu.ch/termine/session-kantonsrat-zusatztag-2/
TRANSP:OPAQUE
END:VEVENT
END:VCALENDAR
