BEGIN:VCALENDAR
VERSION:2.0
PRODID:-//SVP Luzern //NONSGML Events //EN
CALSCALE:GREGORIAN
X-WR-CALNAME:SVP Luzern
BEGIN:VEVENT
CREATED:20220609T091008Z
UID:23650
DTEND:20220629T183000
DTSTART:20220629T000000
DTSTAMP:20231024T055251Z
LOCATION:WInkelbadi\, Horw
DESCRIPTION:
SUMMARY:Club 300 Treffen
ORGANIZER:
URL;VALUE=URI:https://www.svp-lu.ch/termine/club-300-treffen/
TRANSP:OPAQUE
END:VEVENT
END:VCALENDAR
