BEGIN:VCALENDAR
VERSION:2.0
PRODID:-//SVP Luzern //NONSGML Events //EN
CALSCALE:GREGORIAN
X-WR-CALNAME:SVP Luzern
BEGIN:VEVENT
CREATED:20220705T155013Z
UID:23848
DTEND:20220801T150000
DTSTART:20220801T100000
DTSTAMP:20231024T055919Z
LOCATION:Schlössli 2\, 6022 Grosswangen
DESCRIPTION:Am 01. August 2022 feiert die SVP Kanton Luzern ihr 30-jähriges Beste
SUMMARY:1. August-Feier und 30 Jahre SVP Luzern
ORGANIZER:SVP Kanton Luzern
URL;VALUE=URI:https://www.svp-lu.ch/termine/1-august-feier-und-30-jahre-svp-luzern/
TRANSP:OPAQUE
END:VEVENT
END:VCALENDAR
