BEGIN:VCALENDAR
VERSION:2.0
PRODID:-//SVP Luzern //NONSGML Events //EN
CALSCALE:GREGORIAN
X-WR-CALNAME:SVP Luzern
BEGIN:VEVENT
CREATED:20220815T081337Z
UID:24081
DTEND:20221022T220000
DTSTART:20221022T170000
DTSTAMP:20231024T054909Z
LOCATION:NEU in der OASE gleich neben der Kirche in Knutwil
DESCRIPTION:NEU in der OASE gleich neben der Kirche in Knutwil. Wir freuen uns auf
SUMMARY:&#8220\;Hühnerobe&#8221\; e de Schüür in Knutwil
ORGANIZER:SVP Knutwil-St. Erhard
URL;VALUE=URI:https://www.svp-lu.ch/termine/huehnerobe-e-de-schueuer-in-knutwil/
TRANSP:OPAQUE
END:VEVENT
END:VCALENDAR
