BEGIN:VCALENDAR
VERSION:2.0
PRODID:-//SVP Luzern //NONSGML Events //EN
CALSCALE:GREGORIAN
X-WR-CALNAME:SVP Luzern
BEGIN:VEVENT
CREATED:20220815T082353Z
UID:24085
DTEND:20221110T220000
DTSTART:20221110T193000
DTSTAMP:20231024T054859Z
LOCATION:Restaurant Rössli in Knutwil
DESCRIPTION:Donnerstag, 10. November 19.00 Uhr Türöffnung, 19.30 Uhr Beginn: Vor
SUMMARY:Vortrag mit Nationalrat Christian Imark zum Thema Energieversorgung
ORGANIZER:SVP Knutwil-St. Erhard
URL;VALUE=URI:https://www.svp-lu.ch/termine/vortrag-mit-nationalrat-christian-imark-zum-thema-energieversorgung/
TRANSP:OPAQUE
END:VEVENT
END:VCALENDAR
