BEGIN:VCALENDAR
VERSION:2.0
PRODID:-//SVP Luzern //NONSGML Events //EN
CALSCALE:GREGORIAN
X-WR-CALNAME:SVP Luzern
BEGIN:VEVENT
CREATED:20221004T083336Z
UID:24462
DTEND:20221021T193000
DTSTART:20221021T171500
DTSTAMP:20231024T055650Z
LOCATION:Kapellplatz in Luzern
DESCRIPTION:Treffen sie unsere Bundesparlamentarier live! Gratis Getränke und ein
SUMMARY:SVP bi de Lüt
ORGANIZER:SVP Kanton Luzern
URL;VALUE=URI:https://www.svp-lu.ch/termine/svp-bi-de-luet/
TRANSP:OPAQUE
END:VEVENT
END:VCALENDAR
