BEGIN:VCALENDAR
VERSION:2.0
PRODID:-//SVP Luzern //NONSGML Events //EN
CALSCALE:GREGORIAN
X-WR-CALNAME:SVP Luzern
BEGIN:VEVENT
CREATED:20221004T094231Z
UID:24471
DTEND:T213000
DTSTART:T193000
DTSTAMP:20231024T062042Z
LOCATION:wird noch bekannt gegeben
DESCRIPTION:Details zu dieser Veranstaltung werden noch bekannt gegeben.
SUMMARY:Bürger Fragen &#8211\; SVP antwortet
ORGANIZER:SVP Kanton Luzern
URL;VALUE=URI:https://www.svp-lu.ch/termine/buerger-fragen-svp-antwortet/
TRANSP:OPAQUE
END:VEVENT
END:VCALENDAR
