BEGIN:VCALENDAR
VERSION:2.0
PRODID:-//SVP Luzern //NONSGML Events //EN
CALSCALE:GREGORIAN
X-WR-CALNAME:SVP Luzern
BEGIN:VEVENT
CREATED:20221006T062603Z
UID:24493
DTEND:20230128T153000
DTSTART:20230128T100000
DTSTAMP:20231024T055514Z
LOCATION:ZH
DESCRIPTION:
SUMMARY:Eidg.Delegiertenversammlung
ORGANIZER:
URL;VALUE=URI:https://www.svp-lu.ch/termine/eidg-delegiertenversammlung-17/
TRANSP:OPAQUE
END:VEVENT
END:VCALENDAR
