BEGIN:VCALENDAR
VERSION:2.0
PRODID:-//SVP Luzern //NONSGML Events //EN
CALSCALE:GREGORIAN
X-WR-CALNAME:SVP Luzern
BEGIN:VEVENT
CREATED:20221006T062606Z
UID:24525
DTEND:20230327T000000
DTSTART:20230327T000000
DTSTAMP:20231024T060344Z
LOCATION:
DESCRIPTION:
SUMMARY:Session Kantonsrat
ORGANIZER:
URL;VALUE=URI:https://www.svp-lu.ch/termine/session-kantonsrat-40/
TRANSP:OPAQUE
END:VEVENT
END:VCALENDAR
