BEGIN:VCALENDAR
VERSION:2.0
PRODID:-//SVP Luzern //NONSGML Events //EN
CALSCALE:GREGORIAN
X-WR-CALNAME:SVP Luzern
BEGIN:VEVENT
CREATED:20221006T062607Z
UID:24541
DTEND:20230427T220000
DTSTART:20230427T193000
DTSTAMP:20260420T131235Z
LOCATION:Zentrum St. Michael. Littau
DESCRIPTION:
SUMMARY:Kant. Generalversammlung
ORGANIZER:SVP Kanton Luzern
URL;VALUE=URI:https://www.svp-lu.ch/termine/kant-generalversammlung-5/
TRANSP:OPAQUE
END:VEVENT
END:VCALENDAR
