BEGIN:VCALENDAR
VERSION:2.0
PRODID:-//SVP Luzern //NONSGML Events //EN
CALSCALE:GREGORIAN
X-WR-CALNAME:SVP Luzern
BEGIN:VEVENT
CREATED:20221006T062607Z
UID:24542
DTEND:20230507T000000
DTSTART:20230428T000000
DTSTAMP:20231024T055843Z
LOCATION:Allmend LU
DESCRIPTION:
SUMMARY:LUGA mit SVP Stand
ORGANIZER:SVP Waldstätten
URL;VALUE=URI:https://www.svp-lu.ch/termine/luga-mit-svp-stand/
TRANSP:OPAQUE
END:VEVENT
END:VCALENDAR
