BEGIN:VCALENDAR
VERSION:2.0
PRODID:-//SVP Luzern //NONSGML Events //EN
CALSCALE:GREGORIAN
X-WR-CALNAME:SVP Luzern
BEGIN:VEVENT
CREATED:20221006T062607Z
UID:24543
DTEND:20230429T120000
DTSTART:20230428T140000
DTSTAMP:20231024T060006Z
LOCATION:
DESCRIPTION:
SUMMARY:Konferenz kantonale Parteipräsidenten /  Sekretäre und Fraktionspräsidenten
ORGANIZER:
URL;VALUE=URI:https://www.svp-lu.ch/termine/konferenz-kantonale-parteipraesidenten-sekretaere-und-fraktionspraesidenten-2/
TRANSP:OPAQUE
END:VEVENT
END:VCALENDAR
